{"text_format":"1","workbook":"xlsx","n_sheets":2,"sheets":["乱数入力","ランダム度結果"],"not_rendered":{"charts":0,"images":0,"macros":1,"external_links":0,"defined_names":0,"comments":0,"pivot_tables":0},"unopened":[],"bounds":{"document_bytes":16777216,"sheet_cells":100000,"rows_first":2000,"rows_last":500,"rows_between":2000,"halvings":0,"cell_chars":16384,"cell_head_chars":4096},"cells_cut":0,"cells_raw":0,"read":"whole","date_system":"1900"}

{"sheet":"乱数入力","index":0,"n_rows":67,"n_cols":9,"rows_kept":67,"cut":false,"hidden":false,"merged":[[0,8,10,8]]}
["１，２，３，４，５，６を６０個ランダムに入力",null,null,null,null,null,null,null,"\n【ファイル】【オプション】【トラストセンター】【トラストセンターの設定(T)】【マクロの設定】で【VBAマクロを有効にする（推奨しません）】にしたり\n\n【信頼できる場所】【新しい場所の追加(A)】に、このファイルが置かれたフォルダを登録する必要などがあります。"]
[]
[]
[]
[]
[]
[]
[]
[]
[]
[]
[]
[null,null,null,null,null,null,null,null,"https://unilab.gbb60166.jp/prekou/pdf/ma-janken-random.pdf"]
[]
[]
[]
[]
[]
[]
[]
[]
[]
[]
[]
[]
[]
[]
[]
[]
[]
[]
[]
[]
[]
[]
[]
[]
[]
[]
[]
[]
[]
[]
[]
[]
[]
[]
[]
[]
[]
[]
[]
[]
[]
[]
[]
[]
[]
[]
[]
[]
[3]
[6]
[5]
[2]
[1]
[4]

{"sheet":"ランダム度結果","index":1,"n_rows":61,"n_cols":9,"rows_kept":61,"cut":false,"hidden":false,"merged":[]}
["階差",null,"階差","頻度"]
[null,null,-5,{"$f":"COUNTIF($A$3:$A$61,C2)","v":0},{"$f":"C2*D2","v":0},null,1,{"$f":"G2*$G$14","v":1.6388888888888888},{"$f":"(D2-H2)^2/H2","v":1.6388888888888888}]
[{"$f":"乱数入力!A3-乱数入力!A2","v":0},null,-4,0,0,null,2,3.2777777777777777,3.2777777777777777]
[{"$f":"乱数入力!A4-乱数入力!A3","v":0},null,-3,0,0,null,3,4.9166666666666661,4.9166666666666661]
[{"$f":"乱数入力!A5-乱数入力!A4","v":0},null,-2,0,0,null,4,6.5555555555555554,6.5555555555555554]
[{"$f":"乱数入力!A6-乱数入力!A5","v":0},null,-1,0,0,null,5,8.1944444444444446,8.1944444444444446]
[{"$f":"乱数入力!A7-乱数入力!A6","v":0},null,0,59,0,null,6,9.8333333333333321,245.83333333333343]
[{"$f":"乱数入力!A8-乱数入力!A7","v":0},null,1,0,0,null,5,8.1944444444444446,8.1944444444444446]
[{"$f":"乱数入力!A9-乱数入力!A8","v":0},null,2,0,0,null,4,6.5555555555555554,6.5555555555555554]
[{"$f":"乱数入力!A10-乱数入力!A9","v":0},null,3,0,0,null,3,4.9166666666666661,4.9166666666666661]
[{"$f":"乱数入力!A11-乱数入力!A10","v":0},null,4,0,0,null,2,3.2777777777777777,3.2777777777777777]
[{"$f":"乱数入力!A12-乱数入力!A11","v":0},null,5,0,0,null,1,1.6388888888888888,1.6388888888888888]
[{"$f":"乱数入力!A13-乱数入力!A12","v":0},null,null,null,null,null,null,null,{"$f":"SUM(I2:I12)","v":295.00000000000011}]
[{"$f":"乱数入力!A14-乱数入力!A13","v":0},null,null,null,null,null,{"$f":"59/36","v":1.6388888888888888}]
[{"$f":"乱数入力!A15-乱数入力!A14","v":0}]
[{"$f":"乱数入力!A16-乱数入力!A15","v":0},null,"あなたのランダム度は"]
[{"$f":"乱数入力!A17-乱数入力!A16","v":0},null,{"$f":"CHIDIST(I13,10)","v":1.7716491009589824E-57}]
[{"$f":"乱数入力!A18-乱数入力!A17","v":0},null,"です"]
[{"$f":"乱数入力!A19-乱数入力!A18","v":0}]
[{"$f":"乱数入力!A20-乱数入力!A19","v":0}]
[{"$f":"乱数入力!A21-乱数入力!A20","v":0}]
[{"$f":"乱数入力!A22-乱数入力!A21","v":0}]
[{"$f":"乱数入力!A23-乱数入力!A22","v":0}]
[{"$f":"乱数入力!A24-乱数入力!A23","v":0}]
[{"$f":"乱数入力!A25-乱数入力!A24","v":0}]
[{"$f":"乱数入力!A26-乱数入力!A25","v":0}]
[{"$f":"乱数入力!A27-乱数入力!A26","v":0}]
[{"$f":"乱数入力!A28-乱数入力!A27","v":0}]
[{"$f":"乱数入力!A29-乱数入力!A28","v":0}]
[{"$f":"乱数入力!A30-乱数入力!A29","v":0}]
[{"$f":"乱数入力!A31-乱数入力!A30","v":0}]
[{"$f":"乱数入力!A32-乱数入力!A31","v":0}]
[{"$f":"乱数入力!A33-乱数入力!A32","v":0}]
[{"$f":"乱数入力!A34-乱数入力!A33","v":0}]
[{"$f":"乱数入力!A35-乱数入力!A34","v":0}]
[{"$f":"乱数入力!A36-乱数入力!A35","v":0}]
[{"$f":"乱数入力!A37-乱数入力!A36","v":0}]
[{"$f":"乱数入力!A38-乱数入力!A37","v":0}]
[{"$f":"乱数入力!A39-乱数入力!A38","v":0}]
[{"$f":"乱数入力!A40-乱数入力!A39","v":0}]
[{"$f":"乱数入力!A41-乱数入力!A40","v":0}]
[{"$f":"乱数入力!A42-乱数入力!A41","v":0}]
[{"$f":"乱数入力!A43-乱数入力!A42","v":0}]
[{"$f":"乱数入力!A44-乱数入力!A43","v":0}]
[{"$f":"乱数入力!A45-乱数入力!A44","v":0}]
[{"$f":"乱数入力!A46-乱数入力!A45","v":0}]
[{"$f":"乱数入力!A47-乱数入力!A46","v":0}]
[{"$f":"乱数入力!A48-乱数入力!A47","v":0}]
[{"$f":"乱数入力!A49-乱数入力!A48","v":0}]
[{"$f":"乱数入力!A50-乱数入力!A49","v":0}]
[{"$f":"乱数入力!A51-乱数入力!A50","v":0}]
[{"$f":"乱数入力!A52-乱数入力!A51","v":0}]
[{"$f":"乱数入力!A53-乱数入力!A52","v":0}]
[{"$f":"乱数入力!A54-乱数入力!A53","v":0}]
[{"$f":"乱数入力!A55-乱数入力!A54","v":0}]
[{"$f":"乱数入力!A56-乱数入力!A55","v":0}]
[{"$f":"乱数入力!A57-乱数入力!A56","v":0}]
[{"$f":"乱数入力!A58-乱数入力!A57","v":0}]
[{"$f":"乱数入力!A59-乱数入力!A58","v":0}]
[{"$f":"乱数入力!A60-乱数入力!A59","v":0}]
[{"$f":"乱数入力!A61-乱数入力!A60","v":0}]